BEGIN:VCALENDAR
VERSION:2.0
PRODID:-//eventon.com NONSGML v1.0//EN
CALSCALE:GREGORIAN
METHOD:PUBLISH
BEGIN:VEVENT
UID:69e9f9b09a22e
DTSTAMP:20260423T105128Z
DTSTART:20260509T173000Z
DTEND:20260509T195900Z
LOCATION:Pfalztheater Kaiserslautern Willy-Brandt-Platz 4-5\,  67657 Kaiserslautern
SUMMARY:W. A. Mozart: Don Giovanni
DESCRIPTION:\nhttps://johannesfritsche.de/events/w-a-mozart-don-giovanni-12
 /var/ri-6.l-L1
URL:https://johannesfritsche.de/events/w-a-mozart-don-giovanni-12/var/ri-6.l-L1
END:VEVENT
END:VCALENDAR